Workbook

Sheet Setup
C4: General Information
C6: NFL District or Tournament Name
C7: Bear Brawl Invitational
C9: Date(s) Mmmm DD-DD, YYYY
C10: 11/18-19/11
C12: Host School
C13: Central Valley High School

Sheet Varsity Senate
A1: =Setup!C7 -> Bear Brawl Invitational | J1: =Setup!C10 -> 11/18-19/11
A3: School | B3: Contestant Last Name | C3: Contestant First Name | D3: J1/Parl | E3: J2 | F3: J3 | G3: J4 | H3: J5 | I3: Total | J3: Place
A4: Mijiga | B4: Machado | C4: Walla Walla | D4: 1 | E4: 1 | F4: 2 | G4: 1 | H4: 1 | I4: =SUM(D4:H4) -> 6
A5: Ruane | B5: Collin | C5: C'DA | D5: 2 | E5: 4 | F5: 1 | G5: 3 | H5: 5 | I5: =SUM(D5:H5) -> 15
A6: O'Malia | B6: Tim | C6: Eastside Catholic | D6: 6 | E6: 3 | F6: 3 | G6: 2 | H6: 3 | I6: =SUM(D6:H6) -> 17
A7: Edgel | B7: Danny | C7: Republic | D7: 5 | E7: 2 | F7: 4 | G7: 4 | H7: 6 | I7: =SUM(D7:H7) -> 21
A8: Polsin | B8: Sam | C8: U-High | D8: 4 | E8: 9 | F8: 7 | G8: 6 | H8: 2 | I8: =SUM(D8:H8) -> 28
A9: Mansoor | B9: Abby | C9: Central Valley | D9: 7 | E9: 7 | F9: 8 | G9: 7 | H9: 4 | I9: =SUM(D9:H9) -> 33
A10: Grant-Herriot | B10: Hope | C10: Walla Walla | D10: 8 | E10: 6 | F10: 9 | G10: 5 | H10: 7 | I10: =SUM(D10:H10) -> 35
A11: Bradstreet | B11: Audra | C11: U-High | D11: 3 | E11: 9 | F11: 9 | G11: 9 | H11: 9 | I11: =SUM(D11:H11) -> 39
A12: Beresford | B12: Lisa | C12: Mead | D12: 9 | E12: 9 | F12: 6 | G12: 8 | H12: 9 | I12: =SUM(D12:H12) -> 41
A13: Kasbar | B13: Ana | C13: TEC | D13: 10 | E13: 5 | F13: 9 | G13: 9 | H13: 9 | I13: =SUM(D13:H13) -> 42
A14: Chastek | B14: Skyler | C14: G-Prep | D14: 12 | E14: 8 | F14: 5 | G14: 9 | H14: 8 | I14: =SUM(D14:H14) -> 42
A15: Draben | B15: Molly | C15: CDA | D15: 11 | E15: 9 | F15: 9 | G15: 9 | H15: 9 | I15: =SUM(D15:H15) -> 47
A16: Staal | B16: Anna | C16: TEC | D16: 13 | E16: 9 | F16: 9 | G16: 9 | H16: 9 | I16: =SUM(D16:H16) -> 49
I17: =SUM(D17:H17) -> 0
I18: =SUM(D18:H18) -> 0
I19: =SUM(D19:H19) -> 0
I20: =SUM(D20:H20) -> 0
I21: =SUM(D21:H21) -> 0
I22: =SUM(D22:H22) -> 0
I23: =SUM(D23:H23) -> 0
I24: =SUM(D24:H24) -> 0
I25: =SUM(D25:H25) -> 0
I26: =SUM(D26:H26) -> 0
I27: =SUM(D27:H27) -> 0
I28: =SUM(D28:H28) -> 0
I29: =SUM(D29:H29) -> 0

Sheet Varsity House 1
A1: =Setup!C7 -> Bear Brawl Invitational | J1: =Setup!C10 -> 11/18-19/11
A3: School | B3: Contestant Last Name | C3: Contestant First Name | D3: J1/Parl | E3: J2 | F3: J3 | G3: J4 | H3: J5 | I3: Total | J3: Place
A4: Yates | B4: Sarah | C4: Central Valley | D4: 3 | E4: 4 | F4: 1 | G4: 2 | H4: 1 | I4: =SUM(D4:H4) -> 11
A5: Hutchins | B5: Scott | C5: Eastside Catholic | D5: 2 | E5: 1 | F5: 4 | G5: 3 | H5: 4 | I5: =SUM(D5:H5) -> 14
A6: Newman | B6: Tyler | C6: U-High | D6: 1 | E6: 2 | F6: 2 | G6: 5 | H6: 5 | I6: =SUM(D6:H6) -> 15
A7: Helman | B7: William | C7: Ferris | D7: 4 | E7: 5 | F7: 5 | G7: 6 | H7: 2 | I7: =SUM(D7:H7) -> 22
A8: McGaffey | B8: Kenny | C8: Republic | D8: 5 | E8: 3 | F8: 3 | G8: 4 | H8: 9 | I8: =SUM(D8:H8) -> 24
A9: Smith | B9: Rachel | C9: Mt. Spokane | D9: 6 | E9: 7 | F9: 6 | G9: 1 | H9: 6 | I9: =SUM(D9:H9) -> 26
A10: Beck | B10: Marisol | C10: Walla Walla | D10: 7 | E10: 6 | F10: 8 | G10: 8 | H10: 3 | I10: =SUM(D10:H10) -> 32
A11: Ward | B11: Gabbi | C11: U-High | D11: 9 | E11: 8 | F11: 7 | G11: 9 | H11: 9 | I11: =SUM(D11:H11) -> 42
A12: Price | B12: Mimi | C12: CDA | D12: 8 | E12: 9 | F12: 9 | G12: 9 | H12: 8 | I12: =SUM(D12:H12) -> 43
A13: Yuen | B13: Emily | C13: Mead | D13: 10 | E13: 9 | F13: 9 | G13: 7 | H13: 9 | I13: =SUM(D13:H13) -> 44
A14: Brinkley | B14: Brent | C14: CDA | D14: 11 | E14: 9 | F14: 9 | G14: 9 | H14: 7 | I14: =SUM(D14:H14) -> 45
A15: Anderson | B15: Andrew | C15: TEC | D15: 12 | E15: 9 | F15: 9 | G15: 9 | H15: 9 | I15: =SUM(D15:H15) -> 48
A16: Sutman | B16: David | C16: G-Prep | D16: 13 | E16: 9 | F16: 9 | G16: 9 | H16: 9 | I16: =SUM(D16:H16) -> 49
I17: =SUM(D17:H17) -> 0
I18: =SUM(D18:H18) -> 0
I19: =SUM(D19:H19) -> 0
I20: =SUM(D20:H20) -> 0
I21: =SUM(D21:H21) -> 0
I22: =SUM(D22:H22) -> 0
I23: =SUM(D23:H23) -> 0
I24: =SUM(D24:H24) -> 0
I25: =SUM(D25:H25) -> 0
I26: =SUM(D26:H26) -> 0
I27: =SUM(D27:H27) -> 0
I28: =SUM(D28:H28) -> 0
... I32: =SUM(D32:H32) -> 0

Sheet Varsity House 2
A1: =Setup!C7 -> Bear Brawl Invitational | J1: =Setup!C10 -> 11/18-19/11
A3: Contestant Last Name | B3: Contestant First Name | C3: School | D3: J1/Parl | E3: J2 | F3: J3 | G3: J4 | H3: J5 | I3: Total | J3: Place
A4: Hendrix | B4: Kyle | C4: Eastside Catholic | D4: 1 | E4: 3 | F4: 4 | G4: 1 | H4: 1 | I4: =SUM(D4:H4) -> 10
A5: Goookin | B5: Jonah | C5: Lake City | D5: 2 | E5: 4 | F5: 3 | G5: 4 | H5: 3 | I5: =SUM(D5:H5) -> 16
A6: Johnson | B6: Jeremiah | C6: North Central | D6: 8 | E6: 1 | F6: 5 | G6: 2 | H6: 4 | I6: =SUM(D6:H6) -> 20
A7: Teems | B7: Rachel | C7: Lewis and Clark | D7: 4 | E7: 2 | F7: 1 | G7: 6 | H7: 8 | I7: =SUM(D7:H7) -> 21
A8: Ambartsamyan | B8: Aram | C8: Ferris | D8: 3 | E8: 5 | F8: 9 | G8: 3 | H8: 2 | I8: =SUM(D8:H8) -> 22
A9: McLaughlin | B9: Kimberly | C9: Walla Walla | D9: 6 | E9: 7 | F9: 8 | G9: 5 | H9: 5 | I9: =SUM(D9:H9) -> 31
A10: French | B10: Leslie | C10: U-High | D10: 7 | E10: 6 | F10: 6 | G10: 9 | H10: 6 | I10: =SUM(D10:H10) -> 34
A11: Dixon | B11: Sanne | C11: U-High | D11: 9 | E11: 9 | F11: 2 | G11: 7 | H11: 9 | I11: =SUM(D11:H11) -> 36
A12: Ochoa | B12: Katie | C12: U-High | D12: 5 | E12: 9 | F12: 9 | G12: 9 | H12: 9 | I12: =SUM(D12:H12) -> 41
A13: Frey | B13: Latona | C13: CDA | D13: 10 | E13: 9 | F13: 9 | G13: 9 | H13: 9 | I13: =SUM(D13:H13) -> 46
A14: Ferlito | B14: Niah | C14: TEC | D14: 11 | E14: 9 | F14: 9 | G14: 8 | H14: 9 | I14: =SUM(D14:H14) -> 46
A15: Long | B15: Sean | C15: Mead | D15: 12 | E15: 9 | F15: 9 | G15: 9 | H15: 7 | I15: =SUM(D15:H15) -> 46
... A18: Arachtingi | B18: Alex | C18: Central Valley | D18: 15 | E18: 8 | F18: 9 | G18: 9 | H18: 9 | I18: =SUM(D18:H18) -> 50
I19: =SUM(D19:H19) -> 0
I20: =SUM(D20:H20) -> 0
I21: =SUM(D21:H21) -> 0
I22: =SUM(D22:H22) -> 0
I23: =SUM(D23:H23) -> 0
I24: =SUM(D24:H24) -> 0
I25: =SUM(D25:H25) -> 0
I26: =SUM(D26:H26) -> 0

Sheet Novice Senate
A1: =Setup!C7 -> Bear Brawl Invitational | J1: =Setup!C10 -> 11/18-19/11
A3: Contestant Last Name | B3: Contestant First Name | C3: School | D3: J1/Parl | E3: J2 | F3: J3 | G3: J4 | H3: J5 | I3: Total | J3: Place
A4: Lake | B4: Chase | C4: Ferris | D4: 7 | E4: 1 | F4: 1 | G4: 2 | H4: 2 | I4: =SUM(D4:H4) -> 13
A5: Muglia | B5: Christian | C5: TEC | D5: 4 | E5: 3 | F5: 2 | G5: 3 | H5: 7 | I5: =SUM(D5:H5) -> 19
A6: Matmusaeva | B6: Lola | C6: U-High | D6: 1 | E6: 2 | F6: 3 | G6: 9 | H6: 5 | I6: =SUM(D6:H6) -> 20
A7: Flink | B7: Jecelynn | C7: TEC | D7: 3 | E7: 5 | F7: 4 | G7: 6 | H7: 6 | I7: =SUM(D7:H7) -> 24
A8: Stubbers | B8: Lauren | C8: U-High | D8: 2 | E8: 9 | F8: 9 | G8: 5 | H8: 4 | I8: =SUM(D8:H8) -> 29
A9: Beckwith | B9: Christina | C9: Republic | D9: 10 | E9: 9 | F9: 9 | G9: 1 | H9: 1 | I9: =SUM(D9:H9) -> 30
A10: Fode | B10: Michael | C10: U-High | D10: 11 | E10: 7 | F10: 9 | G10: 4 | H10: 3 | I10: =SUM(D10:H10) -> 34
A11: Jones | B11: Makayla | C11: Ferris | D11: 9 | E11: 4 | F11: 8 | G11: 9 | H11: 8 | I11: =SUM(D11:H11) -> 38
A12: Jarvis | B12: Nick | C12: TEC | D12: 6 | E12: 9 | F12: 6 | G12: 9 | H12: 9 | I12: =SUM(D12:H12) -> 39
A13: Overman | B13: Kaitie | C13: TEC | D13: 5 | E13: 8 | F13: 9 | G13: 9 | H13: 9 | I13: =SUM(D13:H13) -> 40
A14: Staal | B14: John | C14: TEC | D14: 8 | E14: 9 | F14: 5 | G14: 9 | H14: 9 | I14: =SUM(D14:H14) -> 40
A15: Floden | B15: Nick | C15: Central Valley | D15: 14 | E15: 6 | F15: 7 | G15: 7 | H15: 9 | I15: =SUM(D15:H15) -> 43
... A18: Padilla | B18: Madison | C18: Republic | D18: 15 | E18: 9 | F18: 9 | G18: 9 | H18: 9 | I18: =SUM(D18:H18) -> 51
I19: =SUM(D19:H19) -> 0
I20: =SUM(D20:H20) -> 0
I21: =SUM(D21:H21) -> 0

Sheet VArsity Super
A1: =Setup!C7 -> Bear Brawl Invitational | I1: =Setup!C10 -> 11/18-19/11
A3: Contestant Last Name | B3: Contestant First Name | C3: School | D3: J1/Parl | E3: J2 | F3: J3 | G3: J4 | H3: Total | I3: Place
A4: Yates | B4: Sarah | C4: Central Valley | D4: 3 | E4: 1 | F4: 2 | G4: 4 | H4: =SUM(D4:G4) -> 10 | I4: 1st
A5: Hendrix | B5: Kyle | C5: Eastside Catholic | D5: 1 | E5: 2 | F5: 5 | G5: 3 | H5: =SUM(D5:G5) -> 11 | I5: Best PO, 2nd
A6: O'Malia | B6: Tim | C6: Eastside Catholic | D6: 5 | E6: 3 | F6: 9 | G6: 2 | H6: =SUM(D6:G6) -> 19 | I6: 3rd
A7: Teems | B7: Rachel | C7: Lewis and Clark | D7: 10 | E7: 5 | F7: 3 | G7: 1 | H7: =SUM(D7:G7) -> 19 | I7: 4th
A8: Mijiga | B8: Machado | C8: Walla Walla | D8: 2 | E8: 4 | F8: 9 | G8: 5 | H8: =SUM(D8:G8) -> 20 | I8: 5th
A9: Hutchins | B9: Scott | C9: Eastside Catholic | D9: 8 | E9: 9 | F9: 1 | G9: 6 | H9: =SUM(D9:G9) -> 24 | I9: 6th
A10: Ruane | B10: Collin | C10: C'DA | D10: 6 | E10: 9 | F10: 4 | G10: 9 | H10: =SUM(D10:G10) -> 28
A11: Ambartsamyan | B11: Aram | C11: Ferris | D11: 4 | E11: 9 | F11: 9 | G11: 7 | H11: =SUM(D11:G11) -> 29
A12: Johnson | B12: Jeremiah | C12: North Central | D12: 7 | E12: 6 | F12: 7 | G12: 9 | H12: =SUM(D12:G12) -> 29
A13: Goookin | B13: Jonah | C13: Lake City | D13: 9 | E13: 7 | F13: 9 | G13: 8 | H13: =SUM(D13:G13) -> 33
A14: McGaffey | B14: Kenny | C14: Republic | D14: 11 | E14: 8 | F14: 6 | G14: 9 | H14: =SUM(D14:G14) -> 34
A15: Edgel | B15: Danny | C15: Republic | D15: 12 | E15: 9 | F15: 8 | G15: 9 | H15: =SUM(D15:G15) -> 38
A16: Newman | B16: Tyler | C16: U-High | D16: 13 | E16: 9 | F16: 9 | G16: 9 | H16: =SUM(D16:G16) -> 40
A17: Helman | B17: William | C17: Ferris | D17: 14 | E17: 9 | F17: 9 | G17: 9 | H17: =SUM(D17:G17) -> 41
A18: Polsin | B18: Sam | C18: U-High | D18: 15 | E18: 9 | F18: 9 | G18: 9 | H18: =SUM(D18:G18) -> 42
H19: =SUM(D19:G19) -> 0
H20: =SUM(D20:G20) -> 0
H21: =SUM(D21:G21) -> 0
H22: =SUM(D22:G22) -> 0
H23: =SUM(D23:G23) -> 0
H24: =SUM(D24:G24) -> 0
H25: =SUM(D25:G25) -> 0
H26: =SUM(D26:G26) -> 0

Sheet Novice Super
A1: =Setup!C7 -> Bear Brawl Invitational | I1: =Setup!C10 -> 11/18-19/11
A3: Contestant Last Name | B3: Contestant First Name | C3: School | D3: J1/Parl | E3: J2 | F3: J3 | G3: J4 | H3: Total | I3: Place
A4: Lake | B4: Chase | C4: Ferris | D4: 1 | E4: 3 | F4: 2 | G4: 1 | H4: =SUM(D4:G4) -> 7 | I4: 1st
A5: Stubbers | B5: Lauren | C5: U-High | D5: 2 | E5: 1 | F5: 1 | G5: 6 | H5: =SUM(D5:G5) -> 10 | I5: Top PO, 2nd
A6: Muglia | B6: Christian | C6: TEC | D6: 4 | E6: 2 | F6: 3 | G6: 3 | H6: =SUM(D6:G6) -> 12 | I6: 3rd
A7: Jones | B7: Makayla | C7: Ferris | D7: 3 | E7: 4 | F7: 4 | G7: 2 | H7: =SUM(D7:G7) -> 13
A8: Fode | B8: Michael | C8: U-High | D8: 5 | E8: 9 | F8: 5 | G8: 9 | H8: =SUM(D8:G8) -> 28
A9: Overman | B9: Kaitie | C9: TEC | D9: 6 | E9: 5 | F9: 8 | G9: 9 | H9: =SUM(D9:G9) -> 28
A10: Flink | B10: Jecelynn | C10: TEC | D10: 8 | E10: 6 | F10: 9 | G10: 5 | H10: =SUM(D10:G10) -> 28
A11: Beckwith | B11: Christina | C11: Republic | D11: 10 | E11: 9 | F11: 6 | G11: 4 | H11: =SUM(D11:G11) -> 29
A12: Jarvis | B12: Nick | C12: TEC | D12: 7 | E12: 8 | F12: 9 | G12: 7 | H12: =SUM(D12:G12) -> 31
A13: Matmusaeva | B13: Lola | C13: U-High | D13: 9 | E13: 7 | F13: 7 | G13: 8 | H13: =SUM(D13:G13) -> 31
H14: =SUM(D14:G14) -> 0
H15: =SUM(D15:G15) -> 0
H16: =SUM(D16:G16) -> 0
H17: =SUM(D17:G17) -> 0
H18: =SUM(D18:G18) -> 0
H19: =SUM(D19:G19) -> 0
H20: =SUM(D20:G20) -> 0
H21: =SUM(D21:G21) -> 0
H22: =SUM(D22:G22) -> 0
H23: =SUM(D23:G23) -> 0
H24: =SUM(D24:G24) -> 0
H25: =SUM(D25:G25) -> 0
H26: =SUM(D26:G26) -> 0

Sheet Sheet1
